BEGIN:VCALENDAR
VERSION:2.0
PRODID:-//Gillette Family Farms - ECPv6.15.15//NONSGML v1.0//EN
CALSCALE:GREGORIAN
METHOD:PUBLISH
X-ORIGINAL-URL:https://staging.gillettefamilyfarms.com
X-WR-CALDESC:Events for Gillette Family Farms
REFRESH-INTERVAL;VALUE=DURATION:PT1H
X-Robots-Tag:noindex
X-PUBLISHED-TTL:PT1H
BEGIN:VTIMEZONE
TZID:UTC
BEGIN:STANDARD
TZOFFSETFROM:+0000
TZOFFSETTO:+0000
TZNAME:UTC
DTSTART:20250101T000000
END:STANDARD
END:VTIMEZONE
BEGIN:VEVENT
DTSTART;TZID=UTC:20260727T090000
DTEND;TZID=UTC:20260727T120000
DTSTAMP:20260420T125252
CREATED:20260202T155241Z
LAST-MODIFIED:20260202T162258Z
UID:798-1785142800-1785153600@staging.gillettefamilyfarms.com
SUMMARY:Kids Farm Camp July 27th - 31st\, 2026
DESCRIPTION: 
URL:https://staging.gillettefamilyfarms.com/event/kids-farm-camp-2/
CATEGORIES:Farm Camps
END:VEVENT
END:VCALENDAR